BEGIN:VCALENDAR
VERSION:2.0
PRODID:-//Events Calendar - Video Game Trader - ECPv6.15.17.1//NONSGML v1.0//EN
CALSCALE:GREGORIAN
METHOD:PUBLISH
X-ORIGINAL-URL:https://events.videogametrader.com
X-WR-CALDESC:Events for Events Calendar - Video Game Trader
REFRESH-INTERVAL;VALUE=DURATION:PT1H
X-Robots-Tag:noindex
X-PUBLISHED-TTL:PT1H
BEGIN:VTIMEZONE
TZID:America/New_York
BEGIN:DAYLIGHT
TZOFFSETFROM:-0500
TZOFFSETTO:-0400
TZNAME:EDT
DTSTART:20250309T070000
END:DAYLIGHT
BEGIN:STANDARD
TZOFFSETFROM:-0400
TZOFFSETTO:-0500
TZNAME:EST
DTSTART:20251102T060000
END:STANDARD
BEGIN:DAYLIGHT
TZOFFSETFROM:-0500
TZOFFSETTO:-0400
TZNAME:EDT
DTSTART:20260308T070000
END:DAYLIGHT
BEGIN:STANDARD
TZOFFSETFROM:-0400
TZOFFSETTO:-0500
TZNAME:EST
DTSTART:20261101T060000
END:STANDARD
BEGIN:DAYLIGHT
TZOFFSETFROM:-0500
TZOFFSETTO:-0400
TZNAME:EDT
DTSTART:20270314T070000
END:DAYLIGHT
BEGIN:STANDARD
TZOFFSETFROM:-0400
TZOFFSETTO:-0500
TZNAME:EST
DTSTART:20271107T060000
END:STANDARD
END:VTIMEZONE
BEGIN:VEVENT
DTSTART;TZID=America/New_York:20260427T180000
DTEND;TZID=America/New_York:20260427T193000
DTSTAMP:20260423T085547
CREATED:20260402T184350Z
LAST-MODIFIED:20260421T194015Z
UID:3339-1777312800-1777318200@events.videogametrader.com
SUMMARY:Pokémon TCG League Night [04/27/2026]
DESCRIPTION:Join us for our weekly Pokémon TCG League\, a relaxed event where players can battle\, trade\, and enjoy the game with the local community. Whether you’re a seasoned Trainer or just getting started\, this is a great place to play\, learn\, and have fun. \n📅 Every Monday | ⏰ 6:00 PM – 7:30 PM \nFormat: Pokémon TCG | Structure: Casual Play \n🎟️ Entry – $6 \n🏆 Prizing: Players receive 1 booster pack at entry and 1 Prize Pack at the end of the event while supplies last. \nCome hang out\, play some games\, and enjoy a fun night of Pokémon with the community! \nCategory:Pokemon TCG
URL:https://events.videogametrader.com/event/pokemon-tcg-league-night-04-27-2026/
LOCATION:Buford GA\, 1350 Buford Highway Suite 109\, Buford\, GA\, 30518\, United States
CATEGORIES:Pokemon TCG
ATTACH;FMTTYPE=image/jpeg:https://events.videogametrader.com/wp-content/uploads/2024/09/play-pokemon-generic-169.jpg
END:VEVENT
BEGIN:VEVENT
DTSTART;TZID=America/New_York:20260504T180000
DTEND;TZID=America/New_York:20260504T193000
DTSTAMP:20260423T085547
CREATED:20260402T184355Z
LAST-MODIFIED:20260421T194015Z
UID:3350-1777917600-1777923000@events.videogametrader.com
SUMMARY:Pokémon TCG League Night [05/04/2026]
DESCRIPTION:Join us for our weekly Pokémon TCG League\, a relaxed event where players can battle\, trade\, and enjoy the game with the local community. Whether you’re a seasoned Trainer or just getting started\, this is a great place to play\, learn\, and have fun. \n📅 Every Monday | ⏰ 6:00 PM – 7:30 PM \nFormat: Pokémon TCG | Structure: Casual Play \n🎟️ Entry – $6 \n🏆 Prizing: Players receive 1 booster pack at entry and 1 Prize Pack at the end of the event while supplies last. \nCome hang out\, play some games\, and enjoy a fun night of Pokémon with the community! \nCategory:Pokemon TCG
URL:https://events.videogametrader.com/event/pokemon-tcg-league-night-05-04-2026/
LOCATION:Buford GA\, 1350 Buford Highway Suite 109\, Buford\, GA\, 30518\, United States
CATEGORIES:Pokemon TCG
ATTACH;FMTTYPE=image/jpeg:https://events.videogametrader.com/wp-content/uploads/2024/09/play-pokemon-generic-169.jpg
END:VEVENT
BEGIN:VEVENT
DTSTART;TZID=America/New_York:20260511T180000
DTEND;TZID=America/New_York:20260511T193000
DTSTAMP:20260423T085547
CREATED:20260402T184400Z
LAST-MODIFIED:20260421T194016Z
UID:3361-1778522400-1778527800@events.videogametrader.com
SUMMARY:Pokémon TCG League Night [05/11/2026]
DESCRIPTION:Join us for our weekly Pokémon TCG League\, a relaxed event where players can battle\, trade\, and enjoy the game with the local community. Whether you’re a seasoned Trainer or just getting started\, this is a great place to play\, learn\, and have fun. \n📅 Every Monday | ⏰ 6:00 PM – 7:30 PM \nFormat: Pokémon TCG | Structure: Casual Play \n🎟️ Entry – $6 \n🏆 Prizing: Players receive 1 booster pack at entry and 1 Prize Pack at the end of the event while supplies last. \nCome hang out\, play some games\, and enjoy a fun night of Pokémon with the community! \nCategory:Pokemon TCG
URL:https://events.videogametrader.com/event/pokemon-tcg-league-night-05-11-2026/
LOCATION:Buford GA\, 1350 Buford Highway Suite 109\, Buford\, GA\, 30518\, United States
CATEGORIES:Pokemon TCG
ATTACH;FMTTYPE=image/jpeg:https://events.videogametrader.com/wp-content/uploads/2024/09/play-pokemon-generic-169.jpg
END:VEVENT
BEGIN:VEVENT
DTSTART;TZID=America/New_York:20260518T180000
DTEND;TZID=America/New_York:20260518T193000
DTSTAMP:20260423T085547
CREATED:20260421T194018Z
LAST-MODIFIED:20260421T194018Z
UID:3413-1779127200-1779132600@events.videogametrader.com
SUMMARY:Pokémon TCG League Night [05/18/2026]
DESCRIPTION:Join us for our weekly Pokémon TCG League\, a relaxed event where players can battle\, trade\, and enjoy the game with the local community. Whether you’re a seasoned Trainer or just getting started\, this is a great place to play\, learn\, and have fun. \n📅 Every Monday | ⏰ 6:00 PM – 7:30 PM \nFormat: Pokémon TCG | Structure: Casual Play \n🎟️ Entry – $6 \n🏆 Prizing: Players receive 1 booster pack at entry and 1 Prize Pack at the end of the event while supplies last. \nCome hang out\, play some games\, and enjoy a fun night of Pokémon with the community! \nCategory:Pokemon TCG
URL:https://events.videogametrader.com/event/pokemon-tcg-league-night-05-18-2026/
LOCATION:Buford GA\, 1350 Buford Highway Suite 109\, Buford\, GA\, 30518\, United States
CATEGORIES:Pokemon TCG
ATTACH;FMTTYPE=image/jpeg:https://events.videogametrader.com/wp-content/uploads/2024/09/play-pokemon-generic-169.jpg
END:VEVENT
BEGIN:VEVENT
DTSTART;TZID=America/New_York:20260525T180000
DTEND;TZID=America/New_York:20260525T193000
DTSTAMP:20260423T085547
CREATED:20260421T194019Z
LAST-MODIFIED:20260421T194019Z
UID:3422-1779732000-1779737400@events.videogametrader.com
SUMMARY:Pokémon TCG League Night [05/25/2026]
DESCRIPTION:Join us for our weekly Pokémon TCG League\, a relaxed event where players can battle\, trade\, and enjoy the game with the local community. Whether you’re a seasoned Trainer or just getting started\, this is a great place to play\, learn\, and have fun. \n📅 Every Monday | ⏰ 6:00 PM – 7:30 PM \nFormat: Pokémon TCG | Structure: Casual Play \n🎟️ Entry – $6 \n🏆 Prizing: Players receive 1 booster pack at entry and 1 Prize Pack at the end of the event while supplies last. \nCome hang out\, play some games\, and enjoy a fun night of Pokémon with the community! \nCategory:Pokemon TCG
URL:https://events.videogametrader.com/event/pokemon-tcg-league-night-05-25-2026/
LOCATION:Buford GA\, 1350 Buford Highway Suite 109\, Buford\, GA\, 30518\, United States
CATEGORIES:Pokemon TCG
ATTACH;FMTTYPE=image/jpeg:https://events.videogametrader.com/wp-content/uploads/2024/09/play-pokemon-generic-169.jpg
END:VEVENT
END:VCALENDAR